Workbook
Name _Toc42784672: 'Précisions_Niveaux de soutien'!$A$1
Name Barème: '[1]Barème dévaluation'!$B$9:$B$19
Name Barème: '[1]Barème dévaluation'!$B$9:$B$19
Name Barème: '[1]Barème dévaluation'!$B$9:$B$19
Name Barème: '[1]Barème dévaluation'!$B$9:$B$19
Name Barème: 'Barème dévaluation'!$B$9:$B$19
Name Barème1: '[2]Barème d''évaluation'!$B$9:$B$19
Name Notes: #REF!
Name Notes: #REF!
Name Notes: #REF!
Name Notes: #REF!
Name Notes: #REF!
Name Notes: #REF!
Name Notes: #REF!
Name Notes: #REF!
Name Notes: #REF!
Name Notes: #REF!

Sheet Informations_Élève
E2: insérer le logo de l'École
A8: Suivi des apprentissages en contexte de modification
B10: Nom de l'élève
B11: Année scolaire
B12: Date:

Sheet Barème dévaluation
B8: Barème
B9: X
B10: A+
B11: A
B12: A-
B13: B+
B14: B
B15: B-
B16: C+
B17: C
B18: C-
B19: NÉ
B21: Sélectionner | C21: Sélectionner
B22: L'élève répond de façon marquée aux exigences fixées pour lui (A+ = 100%) | C22: Soutien habituel
B23: L'élève répond de façon marquée aux exigences fixées pour lui (A = 95%) | C23: Soutien fréquent
B24: L'élève répond de façon marquée aux exigences fixées pour lui (A- = 90%) | C24: Soutien constant
B25: L'élève répond aux exigences fixées pour lui (B+ = 85%)
B26: L'élève répond aux exigences fixées pour lui (B = 80%)
B27: L'élève répond aux exigences fixées pour lui (B- = 75%)
B28: L'élève répond minimalement aux exigences fixées pour lui (C+ = 70%)
B29: L'élève répond minimalement aux exigences fixées pour lui (C = 65%)
B30: L'élève répond minimalement aux exigences fixées pour lui (C- = 60%)

Sheet Précisions_Niveaux de soutien

Sheet Attentes-Lire
A1: =[1]Informations_Élève!B10 -> Nom de l'élève
A2: =[1]Informations_Élève!B12 -> Date: | J2: RÉSULTATS
B3: Attentes personnalisées en contexte de modification | J3: Étape 1 | L3: Étape 2 | N3: Étape 3
A4: Compétence : Lire des textes variés
B7: Critères d'évaluation | C7: Attentes personnalisées | J7: Étape 1 | K7: Soutien offert | L7: Étape 2 | M7: Soutien offert | N7: Étape 3 | O7: Soutien offert
B8: Compréhension des éléments significatifs d'un texte | C8: Comprendre le sens d'une phrase | E8: Comprendre le sens d'un texte simple (Intertitres, vocabulaire près de l'enfant, temps de verbes connus, plus d'éléments explicites qu'implicites, plus d'images, etc.) | G8: Comprendre le sens d'un texte complexe Considérations : intérêts et âge de l'élève
B9: Interprétation plausible d'un texte | F9: Se construire une interprétation personnelle | G9: Donner des raisons pour appuyer ses idées | H9: Se servir du texte pour appuyer ses idées
B10: Justification pertinentes des réactions | C10: Donner une opinion personnelle | E10: Prendre position par rapport à ses valeurs, idées et expériences | G10: Justifier son opinion à l'aide du texte.
B11: Jugement critique sur des textes littéraires | C11: Formuler une affimation | E11: Justifier l'affirmation à l'aide de certains critères (intrigue de l'histoire, personnages, illustrations, style d'écriture, etc.) | G11: Donner un exemple en lien avec le texte.

Sheet Cibles-Lire
B1: =Informations_Élève!B10 -> Nom de l'élève
B2: =Informations_Élève!B12 -> Date:
B3: Compétence « Lire des textes variés » | C3: Étape 1 | D3: Étape 2 | E3: Étape 3 | F3: Précisions relatives aux cibles, aux moyens et aux tâches
A4: Critère d'évaluation : Compréhension des éléments significatifs d’un texte
A5: 1 | B5: Attente : Comprendre le sens d’une phrase
A6: 1.1 | B6: Je réalise la tâche à partir de la phrase.
A7: 2 | B7: Attente : Comprendre le sens d’un texte simple (Intertitres, vocabulaire près de l’enfant, temps de verbes connus, plus d’éléments explicites qu’implicites, plus d’images, etc.)
A8: 2.1 | B8: Je rappelle une partie du texte. | F8: dans un court texte avec sujet familier
A9: 2.2 | B9: Je cerne les éléments les plus importants.
A10: 2.3 | B10: Je trouve des éléments d’information directement dans le texte.
A11: 2.4 | B11: Je déduis une information à partir de plusieurs éléments du texte.
A12: 3 | B12: Attente : Comprendre le sens d’un texte complexe Considérations intérêts et âge de l'élève
A13: 3.1 | B13: Je rappelle une partie du texte.
A14: 3.2 | B14: Je cerne les éléments importants.
A15: 3.3 | B15: Je trouve des éléments d’information directement dans le texte.
A16: 3.4 | B16: Je déduis une information à partir de plusieurs éléments du texte.
A17: Critère d'évaluation : Interprétation plausible d’un texte
A18: 4 | B18: Attente : Se construire une interprétation personnelle
A19: 4.1 | B19: Je m’exprime par rapport au texte.
A20: 5 | B20: Attente : Donner des raisons pour appuyer ses idées
A21: 5.1 | B21: Je me sers du texte pour appuyer mes idées.
A22: Critère d'évaluation : Justification pertinente des réactions à un texte
A23: 6 | B23: Attente : Donner une opinion personnelle
A24: 6.1 | B24: Je donne mon opinion en prenant position.
A25: 7 | B25: Attente : Prendre position à l’égard de ses valeurs, de ses idées et de ses expériences
A26: 7.1 | B26: Je justifie mon opinion à l’aide de mes expériences et de mes connaissances.
A27: 8 | B27: Attente : Justifier son opinion à l’aide du texte
A28: 8.1 | B28: Je justifie mon opinion à l’aide du texte.
A29: Critère d'évaluation : Jugement critique sur des textes littéraires
A30: 9 | B30: Attente : Formuler une affirmation
A31: 9.1 | B31: Je donne mon opinion sur une œuvre lue, vue ou entendue à partir de mes impressions.
A32: 10 | B32: Attente : Justifier l’affirmation à l’aide de certains critères
A33: 10.1 | B33: J'émets des commentaires par rapport à divers aspects d’une œuvre.
A34: 11 | B34: Attente : Donner un exemple en lien avec le texte et le critère choisi
A35: 11.1 | B35: Je donne un exemple en lien avec le texte et l’aspect choisi.

Sheet Aspects lecture orale
A1: =Informations_Élève!B10 -> Nom de l'élève
A2: =Informations_Élève!B12 -> Date:

Sheet Cibles-Aspects lecture orale
B1: =Informations_Élève!B10 -> Nom de l'élève
B2: =Informations_Élève!B12 -> Date:
B3: CRITÈRES DE RÉUSSITE « Aspects de la lecture orale » | C3: Étape 1 | D3: Étape 2 | E3: Étape 3 | F3: Précisions relatives aux cibles, aux moyens et aux tâches
A4: Habiletés de conscience phonologique
A5: 1 | B5: Cible d'apprentissage : Utiliser mes habiletés de conscience phonologique
A6: 1.1 | B6: J’utilise mes habiletés de conscience syllabique pour m’aider à lire.
A7: 1.2 | B7: J’utilise mes habiletés de conscience phonémique pour m’aider à lire.
A8: Connaissance du principe alphabétique
A9: 2 | B9: Cible d'apprentissage : Connaître le principe alphabétique
A10: 2.1 | B10: Je connais le nom des lettres (minuscule et majuscule).
A11: 2.2 | B11: Je connais le son des lettres.
A12: Lecture instantanée
A13: 3 | B13: Cible d'apprentissage : Lire instantanément les mots fréquents
A14: 3.1 | B14: Je reconnais des mots fréquents.
A15: Lecture à l'aide des correspondances graphème-phonème
A16: 4 | B16: Cible d'apprentissage : Lire des mots en utilisant la correspondance graphème-phonème
A17: 4.1 | B17: Je lis des mots ayant une structure syllabique simple avec des graphies simples (Ex: lac, bras).
A18: 4.2 | B18: Je lis des mots ayant une structure syllabique simple avec des graphies complexes (Ex: trou).
A19: 4.3 | B19: Je lis des mots ayant une structure syllabique complexe avec des graphies simples (Ex: madame).
A20: 4.4 | B20: Je lis des mots ayant une structure syllabique complexe avec des graphies complexes (Ex: troupeau).
A21: Identification de mots à l'aide d'indices
A22: 5 | B22: Cible d'apprentissage : Identifier les mots à partir d'une combinaison de moyens ou d'indices
A23: 5.1 | B23: Je lis des mots en utilisant le sens de la phrase et les illustrations.
A24: 5.2 | B24: Je lis des mots en utilisant les marques du genre et du nombre.
A25: 5.3 | B25: Je lis des mots en utilisant différents indices (famille de mots, préfixe et suffixe).
A26: Fluidité
A27: 6 | B27: Cible d'apprentissage : Lire avec fluidité
A28: 6.1 | B28: Je lis un texte oralement avec exactitude.
A29: 6.2 | B29: Je lis un texte oralement avec rapidité.
A30: 6.3 | B30: Je lis un texte oralement en respectant la ponctuation.
A31: 6.4 | B31: Je lis un texte oralement en utilisant les groupes de mots significatifs.
A32: 6.5 | B32: Je lis un texte oralement en effectuant correctement les liaisons.
A33: 6.6 | B33: Je lis un texte oralement avec expression.

Sheet Attentes-Écrire
A1: =[1]Informations_Élève!B10 -> Nom de l'élève
A2: =[1]Informations_Élève!B12 -> Date: | J2: RÉSULTATS
B3: Attentes personnalisées en contexte de modification | J3: Étape 1 | L3: Étape 2 | N3: Étape 3
A4: Compétence : Écrire des textes variés
B7: Critères d'évaluation | C7: Attentes personnalisées | J7: Étape 1 | K7: Soutien offert | L7: Étape 2 | M7: Soutien offert | N7: Étape 3 | O7: Soutien offert
B8: Adapation à la situation d'écriture | C8: Écrire des phrases | E8: Rédiger des textes variés
B9: Cohérence du texte | D9: Écrire ses idées de manière organisée
F10: Regrouper ses idées en paragraphes
E11: Établir des liens entre ses idées
B12: Utilisation d'un vocabulaire approprié | D12: Utiliser des mots ou des expressions respectant le sens
E13: Utiliser des mots et des expressions précis
C14: Utiliser des mots et des expressions variés
B15: Construction des phrases et ponctuation appropriées | C15: Construire des phrases simples | F15: Construire des phrases élaborées
C16: Délimiter des phrases | E16: Utiliser la virgule dans une énumération | G16: Utiliser les marques du dialogue
B17: Respect des normes relatives à l'orthographie d'usage et à l'orthographe grammaticale | C17: Orthographier les mots à l'étude
C18: Effectuer les accords dans le groupe du nom | F18: Effectuer les accords du verbe avec le sujet

Sheet Cibles-Écrire
B1: =Informations_Élève!B10 -> Nom de l'élève
B2: =Informations_Élève!B12 -> Date:
B3: CRITÈRES DE RÉUSSITE pour la compétence « Écrire des textes variés » | C3: Étape 1 | D3: Étape 2 | E3: Étape 3 | F3: Précisions relatives aux cibles, aux moyens et aux tâches
A4: Critère d'évaluation : Adaptation à la situation d'écriture
A5: 1 | B5: Attente : Écrire des phrases
A6: 1.1 | B6: J’écris des phrases en lien avec le sujet.
A7: 2 | B7: Attente : Rédiger des textes variés
A8: 2.1 | B8: J’écris des textes dont certaines idées sont liées au sujet.
A9: 2.2 | B9: J’écris des textes dont les idées sont liées au sujet.
A10: 2.3 | B10: J’écris des textes dont plusieurs idées sont élaborées.
A11: 2.4 | B11: J’écris des textes qui respectent l’intention d’écriture (raconter, informer, convaincre, etc.).
A12: 2.5 | B12: J’écris des textes qui respectent le destinataire.
A13: Critère d'évaluation : Cohérence du texte
A14: 3 | B14: Attente : Écrire ses idées de manière organisée
A15: 3.1 | B15: Lorsque je raconte, je place mes idées dans un ordre chronologique.
A16: 3.2 | B16: Lorsque je décris ou je dis comment faire, je place mes idées dans un ordre séquentiel.
A17: 3.3 | B17: Lorsque j’explique, je place mes idées dans un ordre logique.
A18: 4 | B18: Attente : Regrouper ses idées en paragraphes
A19: 4.1 | B19: Je regroupe les idées qui vont ensemble.
A20: 4.2 | B20: Je sépare mon texte en paragraphes.
A21: 5 | B21: Attente : Établir des liens entre ses idées
A22: 5.1 | B22: J’utilise des pronoms pour faire des liens entre les phrases.
A23: 5.2 | B23: J’utilise des marqueurs de relation pour faire des liens entre les phrases.
A24: 5.3 | B24: J’utilise des marqueurs de relation pour faire des liens entre les paragraphes.
A25: Critère d'évaluation : Utilisation d'un vocabulaire approprié
A26: 6 | B26: Attente : Utiliser des mots et des expressions respectant le sens
A27: 6.1 | B27: Je consulte mes ressources pour choisir les mots (banque de mots, mur de mots, l’enseignant, etc.).
A28: 6.2 | B28: J’utilise des mots et des expressions que l’on retrouve dans un dictionnaire.
A29: 7 | B29: Attente : Utiliser des mots et des expressions précis
A30: 7.1 | B30: Je remplace les mots vagues par des mots plus précis.
A31: 8 | B31: Attente : Utiliser des mots et des expressions variés
A32: 8.1 | B32: Je remplace les mots qui se répètent par des synonymes.
A33: 8.2 | B33: Je remplace les mots ou les groupes de mots qui se répètent par des synonymes.
A34: 8.3 | B34: Je remplace les mots ou les groupes de mots qui se répètent par un mot générique.
A35: Critère d'évaluation : Construction des phrases et ponctuation appropriées
A36: 9 | B36: Attente : Construire des phrases simples
A37: 9.1 | B37: Je construis des phrases qui ont du sens.
A38: 9.2 | B38: Je construis des phrases complètes (avec tous les mots).
A39: 9.3 | B39: Je construis des phrases avec un sujet et un verbe conjugué (prédicat).
A40: 9.4 | B40: J’ordonne correctement le sujet, le prédicat et les compléments de phrase.
...

Sheet Attentes-Communiquer
A1: =[1]Informations_Élève!B10 -> Nom de l'élève
A2: =[1]Informations_Élève!B12 -> Date: | M2: RÉSULTATS
B3: Attentes personnalisées en contexte de modification | M3: Étape 1 | O3: Étape 2 | Q3: Étape 3
A4: Compétence : Communiquer oralement
B7: Critères d'évaluation | C7: Attentes personnalisées | M7: Étape 1 | N7: Soutien offert | O7: Étape 2 | P7: Soutien offert | Q7: Étape 3 | R7: Soutien offert
B8: Réaction témoignant d'une écoute efficace | C8: Recourir au langage non verbal au cours des interactions | E8: Exprimer ses incompréhension ou ses doute | G8: Répéter, reformuler ou vérifier ce qui a été exprimé | J8: Verbaliser sa compréhension des propos entendus
B9: Adaptation à la situation de communication | C9: Prononcer clairement | E9: Ajuster le volume de sa voix | G9: Adopter un débit compréhensible | I9: Choisir son intonation selon la situation | K9: Recourir au registre de langage approprié
B10: Utilisation des formulations appropriées (syntaxe et vocabulaire | C10: Compléter ses énoncés avec des gestes ou des exemples | F10: Utiliser des formulations cohérentes | I10: Organiser ses propos de manière structurée
C11: Utiliser un vocabulaire correct | F11: Utiliser un vocabulaire précis | I11: Utiliser un vocabulaire variée

Sheet Cibles-Communiquer
B1: =Informations_Élève!B10 -> Nom de l'élève
B2: =Informations_Élève!B12 -> Date:
B3: CRITÈRES DE RÉUSSITE pour la compétence « Communiquer oralement » | C3: Étape 1 | D3: Étape 2 | E3: Étape 3 | F3: Précisions relatives aux cibles, aux moyens et aux tâches
A4: Critère d'évaluation : Réaction témoignant d'une écoute efficace
A5: 1 | B5: Attente : Recourir au langage non verbal au cours des interactions
A6: 1.1 | B6: Je me sers de divers objets pour compléter mes idées.
A7: 1.2 | B7: J’utilise des illustrations pour soutenir mes idées.
A8: 1.3 | B8: Je manifeste ma compréhension par des mimiques, des sourires ou des signes de tête.
A9: 2 | B9: Attente : Exprimer ses incompréhensions ou ses doutes
A10: 2.1 | B10: Je manifeste mes incompréhensions par des gestes.
A11: 2.2 | B11: Je dis à l’adulte que je ne comprends pas.
A12: 2.3 | B12: J’exprime avec l’aide de l’adulte mon incompréhension.
A13: 2.4 | B13: Je pose des questions pendant l’échange.
A14: 3 | B14: Attente : Répéter, reformuler ou vérifier ce qui a été exprimé
A15: 3.1 | B15: Je répète ce que j’entends.
A16: 3.2 | B16: Je redis dans mes mots les propos entendus.
... A20: 4.2 | B20: J’explique dans mes mots ce que j’ai compris.
A21: Critère d'évaluation : Adaptation à la situation de communication
A22: 5 | B22: Attente : Prononcer clairement
A23: 5.1 | B23: Je prononce des mots de manière à être compris par les autres.
A24: 5.2 | B24: Je prononce la plupart des mots clairement.
A25: 6 | B25: Attente : Ajuster le volume de sa voix
A26: 6.1 | B26: J’ajuste le volume de ma voix selon la situation.
A27: 7 | B27: Attente: Adopter un débit compréhensible
A28: 7.1 | B28: J’ajuste ma vitesse quand je parle.
A29: 8 | B29: Attente : Choisir son intention selon la situation
A30: 8.1 | B30: Je varie mon intonation selon la situation.
A31: 9 | B31: Attente : Recourir au registre de langage approprié
A32: 9.1 | B32: J’utilise des mots de tous les jours.
A33: 9.2 | B33: J’utilise des mots qui correspondent au français habituel.
A34: 9.3 | B34: J’utilise des mots qui correspondent au français soigné et recherché.
A35: Critère d'évaluation : Utilisation des formulations appropriées (syntaxe et vocabulaire)
A36: 10 | B36: Attente : Compléter ses énoncés avec des gestes et des exemples
A37: 10.1 | B37: Je complète mes propos avec des gestes ou des exemples.
A38: 11 | B38: Attente : Utiliser des formulations cohérentes
A39: 11.1 | B39: J’enchaîne mes idées avec ce qui a été dit avant.
A40: 11.2 | B40: J’ajoute des nouvelles idées en lien avec ce qui est dit.
A41: 11.3 | B41: Je questionne les autres en respectant le sujet.
A42: 12 | B42: Attente : Organiser ses propos de manière structurée
A43: 12.1 | B43: Je raconte à ma façon un événement, une histoire ou un fait.
...

Sheet Attentes-math
A1: =[1]Informations_Élève!B10 -> Nom de l'élève
A2: =[1]Informations_Élève!B12 -> Date: | M2: RÉSULTATS
B3: Attentes personnalisées en contexte de modification | M3: Étape 1 | O3: Étape 2 | Q3: Étape 3
A4: Compétence : Résoudre une situation-problème
B7: Critères d'évaluation | C7: Attentes personnalisées | M7: Étape 1 | N7: Soutien offert | O7: Étape 2 | P7: Soutien offert | Q7: Étape 3 | R7: Soutien offert
B8: Manifestation (orale ou écrite) de la compréhension de la situation-problème | C8: Identifier les étapes
C9: Tenir compte des données et des contraintes à respecter
B10: Mobilisation correcte des concepts et processus requis pour produire une solution appropriée | C10: Faire appel aux concepts et processus mathématiques requis
C11: Appliquer de façon adéquate les concepts et processus mathématiques requis
B12: Explication (orale ou écrite) des éléments pertinents de la solution | C12: Laisser des traces claires et complètes de sa démarche
M16: RÉSULTATS
M17: Étape 1 | O17: Étape 2 | Q17: Étape 3
A18: Compétence : Raisonner à l'aide de concepts et de processus mathématiques
B21: Critères d'évaluation | C21: Attentes personnalisées | M21: Étape 1 | N21: Soutien offert | O21: Étape 2 | P21: Soutien offert | Q21: Étape 3 | R21: Soutien offert
B22: Analyse adéquate de la situation d'application | C22: Identifier les éléments et les actions
C23: Choisir les concepts et processus mathématiques requis
B24: Application adéquate des processus requis | C24: Appliquer de façon adéquate les concepts et les processus mathématiques requis
B26: Justification correcte d'actions ou d'énoncés à l'aide de concepts et de processus (à l'oral ou à l'écrit) | C26: En situation de validation Appuyer ses actions, ses conclusions et ses résultats à l'aide d'arguments mathématiques appropriés

Sheet Cibles-Résoudre et Raisonner
B1: =Informations_Élève!B10 -> Nom de l'élève
B2: =Informations_Élève!B12 -> Date:
B3: CRITÈRES DE RÉUSSITE pour la compétence « Résoudre une situation-problème » | C3: Étape 1 | D3: Étape 2 | E3: Étape 3 | F3: Précisions relatives aux cibles, aux moyens et aux tâches
A4: Critère d'évaluation : Manifestation, oralement ou par écrit, de la compréhension de la situation-problème
A5: 1 | B5: Attente : Identifier les étapes
A6: 1.1 | B6: J’identifie les étapes de la situation.
A7: 2 | B7: Attente : Tenir compte des données et des contraintes à respecter
A8: 2.1 | B8: Je respecte les données et les contraintes.
A9: Critère d'évaluation : Mobilisation correcte des concepts et processus requis pour produire une solution appropriée
A10: 3 | B10: Attente : Faire appel aux concepts et processus mathématiques requis
A11: 3.1 | B11: Je choisis les concepts et les façons de faire.
A12: 4 | B12: Attente : Appliquer de façon adéquate les concepts et processus mathématiques requis
A13: 4.1 | B13: J’applique les concepts et les processus.
A14: Critère d'évaluation : Explication (orale ou écrite) des éléments pertinents de la solution
A15: 5 | B15: Attente : Laisser des traces claires et complètes de sa démarche
A16: 5.1 | B16: Je laisse des traces claires et complètes de ma démarche.
A18: CRITÈRES DE RÉUSSITE pour la compétence « Raisonner à l'aide de concepts et processus mathématiques » | B18: CRITÈRES DE RÉUSSITE pour la compétence « Raisonner à l'aide de concepts et processus mathématiques » | C18: Étape 1 | D18: Étape 2 | E18: Étape 3 | F18: Précisions relatives aux cibles, aux moyens et aux tâches
A19: Critère d'évaluation : Analyse adéquate de la situation d'application
A20: 6 | B20: Attente : Identifier les étapes
A21: 6.1 | B21: Je trouve les éléments et les actions à faire.
A22: 7 | B22: Attente : Choisir tous les concepts et processus mathématiques requis
A23: 7.1 | B23: Je choisis les concepts et les façons de faire appropriés.
A24: Critère d'évaluation : Application adéquate des processus requis
A25: 8 | B25: Attente : Appliquer de façon adéquate les concepts et les processus mathématiques requis
A26: 8.1 | B26: J’applique correctement les concepts et les processus.
A27: Critère d'évaluation : Justification correcte d'actions ou d'énoncés à l'aide de concepts et de processus mathématiques
A28: 9 | B28: Attente : Laisser des traces claires et complètes de sa démarche
A29: 9.1 | B29: Je laisse des traces claires et complètes de ma démarche.
A30: 10 | B30: Attente : En situation de validation, justifier ses actions, ses conclusions et ses résultats à l'aide d'arguments mathématiques appropriés
A31: 10.1 | B31: J’utilise des arguments mathématiques appropriés pour justifier mes actions et mes résultats.

Sheet Domaines _Concepts et processus
A1: =Informations_Élève!B10 -> Nom de l'élève
A2: =Informations_Élève!B12 -> Date:

Sheet Cibles-Concepts et processus
B1: =Informations_Élève!B10 -> Nom de l'élève
B2: =Informations_Élève!B12 -> Date:
A3: CRITÈRES DE RÉUSSITE pour les « Concepts et processus mathématiques » | B3: CRITÈRES DE RÉUSSITE pour les « Concepts et processus mathématiques » | C3: Étape 1 | D3: Étape 2 | E3: Étape 3 | F3: Précisions relatives aux cibles, aux moyens et aux tâches
A4: 1-3 Sens et écriture des nombres : Lire, écrire et représenter les nombres naturels
A5: 1 | B5: Cible d'apprentissage : Reconnaître instantanément de petites quantités d'éléments organisés
A6: 1.1 | B6: Je reconnais d’un coup d’œil les quantités présentes sur des dés, des dominos, des cartes à jouer, des boîtes de dix.
A7: 2 | B7: Cible d'apprentissage : Lire et écrire les nombres naturels
A8: 2.1 | B8: Je lis et j’écris les nombres naturels de 0 à 5.
A9: 2.2 | B9: Je lis et j’écris les nombres naturels de 0 à 10.
A10: 2.3 | B10: Je lis et j’écris les nombres naturels de 0 à 20.
A11: 2.4 | B11: Je lis et j’écris les nombres naturels de 0 à 60.
A12: 2.5 | B12: Je lis et j’écris les nombres naturels de 0 à 100.
A13: 2.6 | B13: Je lis et j’écris les nombres naturels de 0 à 1000.
A14: 2.7 | B14: Je lis et j’écris les nombres naturels de 0 à 10 000.
A15: 2.8 | B15: Je lis et j’écris les nombres naturels de 0 à 100 000.
A16: 3 | B16: Cible d'apprentissage : Représenter des nombres naturels
... A21: 3.5 | B21: J’explique pourquoi deux représentations du même nombre sont équivalentes.
A22: 4-5 Sens et écriture des nombres : Compter et dénombrer
A23: 4 | B23: Cibles d'apprentissage : Réciter la comptine des nombres
A24: 4.1 | B24: Je récite la comptine des nombres de 0 à 10 en ordre croissant.
A25: 4.2 | B25: Je récite la comptine des nombres de 0 à 20 en ordre croissant.
A26: 4.3 | B26: Je récite la comptine des nombres de 0 à 100 en ordre croissant.
A27: 4.4 | B27: Je récite la comptine des nombres en ordre croissant à partir d’un nombre donné (jusqu’à 1000).
A28: 4.5 | B28: Je compte par bonds (2,10 et 5) à l’aide d’un outil comme la droite numérique ou la grille de nombres.
A29: 4.6 | B29: Je compte par bonds (2,10 et 5) sans support visuel.
A30: 4.7 | B30: Je récite la comptine des nombres à rebours.
A31: 5 | B31: Cible d'apprentissage : Dénombrer des collections réelles et dessinées
A32: 5.1 | B32: J’associe ou j’énonce le nombre correspondant à la collection dénombrée.
A33: 5.2 | B33: Je choisis le type de groupements approprié pour dénombrer une collection.
A34: 5.3 | B34: Je dénombre une collection déjà groupée.
A35: 6-9 Sens et écriture des nombres : Comparer et ordonner les nombres naturels
A36: 6 | B36: Cibles d'apprentissage : Comparer entre elles des collections d'objets
A37: 6.1 | B37: J’estime la quantité d’une collection réelle ou dessinée.
A38: 6.2 | B38: J’utilise les termes plus grand, plus petit ou égal pour comparer des collections.
A39: 7 | B39: Cible d'apprentissage : Situer des nombres naturels à l'aide de différents supports
A40: 7.1 | B40: Je situe des nombres sur une bande de nombres ou une grille de nombres.
A41: 7.2 | B41: Je situe des nombres sur une droite numérique.
A42: 8 | B42: Cible d'apprentissage : Comparer entre eux des nombres naturels (<, =, >)
A43: 8.1 | B43: J’utilise les termes plus grand, plus petit ou égal pour comparer des nombres.
A44: 8.2 | B44: J’utilise les termes supérieur, inférieur ou égal pour comparer des nombres.
...
